BEGIN:VCALENDAR
VERSION:2.0
PRODID:-//KVC Kentucky - ECPv6.15.20//NONSGML v1.0//EN
CALSCALE:GREGORIAN
METHOD:PUBLISH
X-WR-CALNAME:KVC Kentucky
X-ORIGINAL-URL:https://kentucky.kvc.org
X-WR-CALDESC:Events for KVC Kentucky
REFRESH-INTERVAL;VALUE=DURATION:PT1H
X-Robots-Tag:noindex
X-PUBLISHED-TTL:PT1H
BEGIN:VTIMEZONE
TZID:America/Chicago
BEGIN:DAYLIGHT
TZOFFSETFROM:-0600
TZOFFSETTO:-0500
TZNAME:CDT
DTSTART:20210314T080000
END:DAYLIGHT
BEGIN:STANDARD
TZOFFSETFROM:-0500
TZOFFSETTO:-0600
TZNAME:CST
DTSTART:20211107T070000
END:STANDARD
BEGIN:DAYLIGHT
TZOFFSETFROM:-0600
TZOFFSETTO:-0500
TZNAME:CDT
DTSTART:20220313T080000
END:DAYLIGHT
BEGIN:STANDARD
TZOFFSETFROM:-0500
TZOFFSETTO:-0600
TZNAME:CST
DTSTART:20221106T070000
END:STANDARD
BEGIN:DAYLIGHT
TZOFFSETFROM:-0600
TZOFFSETTO:-0500
TZNAME:CDT
DTSTART:20230312T080000
END:DAYLIGHT
BEGIN:STANDARD
TZOFFSETFROM:-0500
TZOFFSETTO:-0600
TZNAME:CST
DTSTART:20231105T070000
END:STANDARD
END:VTIMEZONE
BEGIN:VEVENT
DTSTART;VALUE=DATE:20221018
DTEND;VALUE=DATE:20221020
DTSTAMP:20260425T092518
CREATED:20200218T203056Z
LAST-MODIFIED:20221012T163435Z
UID:10000252-1666051200-1666223999@kentucky.kvc.org
SUMMARY:Twelve (12) Hour Core Curriculum Targeted Case Management Training - Live Online Course
DESCRIPTION:In an effort to continue providing Targeted Case Management training during the COVID-19 pandemic\, the Department of Behavioral Health\, Developmental and Intellectual Disabilities has approved the use of teleconference to deliver the required TCM trainings virtually. KVC Kentucky has been an early adopter of technology-based platforms and is excited to offer the next series of approved Targeted Case Management trainings live via video conference. Information regarding each training can be found below. Participants must have a device with internet capability to connect online such as personal computer\, Chromebook\, or smartphone. A Webex link will be sent to registered participants one day prior to the start of the training. \nOctober 18 & 19\, 2022 from 9:00am-4:30pm \nCost: $240.00 \n*This training has been approved by DBHDID to meet the requirements set forth in 908 KAR 2:260 \nTHIS TRAINING IS FULL & REGISTRATION HAS CLOSED. Please consider registering for the next TCM 12 Hour Core Training taking place Wednesday\, Nov. 30 and Thursday\, Dec. 1. If you have any questions\, contact Kent Conder at cconder@kvc.org. 
URL:https://kentucky.kvc.org/event/twelve-12-hour-core-curriculum-targeted-case-management-training-13/
LOCATION:Online
CATEGORIES:Training
ATTACH;FMTTYPE=image/jpeg:https://kentucky.kvc.org/wp-content/uploads/sites/4/2020/02/iStock-1213470247.jpg
ORGANIZER;CN="Kent Conder":MAILTO:cconder@kvc.org
END:VEVENT
END:VCALENDAR