BEGIN:VCALENDAR
VERSION:2.0
PRODID:-//KVC Kentucky - ECPv6.15.20//NONSGML v1.0//EN
CALSCALE:GREGORIAN
METHOD:PUBLISH
X-ORIGINAL-URL:https://kentucky.kvc.org
X-WR-CALDESC:Events for KVC Kentucky
REFRESH-INTERVAL;VALUE=DURATION:PT1H
X-Robots-Tag:noindex
X-PUBLISHED-TTL:PT1H
BEGIN:VTIMEZONE
TZID:America/Chicago
BEGIN:DAYLIGHT
TZOFFSETFROM:-0600
TZOFFSETTO:-0500
TZNAME:CDT
DTSTART:20250309T080000
END:DAYLIGHT
BEGIN:STANDARD
TZOFFSETFROM:-0500
TZOFFSETTO:-0600
TZNAME:CST
DTSTART:20251102T070000
END:STANDARD
BEGIN:DAYLIGHT
TZOFFSETFROM:-0600
TZOFFSETTO:-0500
TZNAME:CDT
DTSTART:20260308T080000
END:DAYLIGHT
BEGIN:STANDARD
TZOFFSETFROM:-0500
TZOFFSETTO:-0600
TZNAME:CST
DTSTART:20261101T070000
END:STANDARD
BEGIN:DAYLIGHT
TZOFFSETFROM:-0600
TZOFFSETTO:-0500
TZNAME:CDT
DTSTART:20270314T080000
END:DAYLIGHT
BEGIN:STANDARD
TZOFFSETFROM:-0500
TZOFFSETTO:-0600
TZNAME:CST
DTSTART:20271107T070000
END:STANDARD
END:VTIMEZONE
BEGIN:VEVENT
DTSTART;TZID=America/Chicago:20260609T090000
DTEND;TZID=America/Chicago:20260610T140000
DTSTAMP:20260425T092253
CREATED:20260209T173743Z
LAST-MODIFIED:20260209T173743Z
UID:10000409-1780995600-1781100000@kentucky.kvc.org
SUMMARY:Community Support Associate 10 Hour Training – Live Online Course
DESCRIPTION:Ten (10) Hour Community Support Associate Initial Training\nas required in 908 KAR 2:250 \nJune 9 & 10\, 2026\nTime: 9:00 am – 2:00 pm\nCost: $200 \nKVC Kentucky is excited to offer the next series of approved training live via video conference. The Department of Behavioral Health\, Developmental and Intellectual Disabilities has approved the use of teleconference to deliver the required training virtually. Participants must have a device with internet capability to connect online such as a personal computer\, Chromebook\, or smartphone.  A Teams link will be sent to you upon registering. \n\n\n                \n                        \n                            Community Support Associate Initial 10 Hour Training Registration 2026\n                             \n                        \n                        NameThis field is for validation purposes and should be left unchanged.Date of TrainingJune 9 & 10\, 2026Number of People Registering Quantity*\n					\n					\n						Price:\n						$ 200.00\n					\n					\n					 Quantity \n				Name*\n                            \n                            \n                                                    \n                                                    First\n                                                \n                            \n                            \n                                                    \n                                                    Last\n                                                \n                            \n                        Email*\n                            \n                        Phone*Agency*How did you hear about this training?How many people are you registering?12345Registering for more than 1 person? Please list their name(s)Participant #2 email\n                            \n                        Participant #3 email\n                            \n                        Participant #4 email\n                            \n                        Participant #5 email\n                            \n                        Address*    \n                    \n                         \n                                        \n                                        Street Address\n                                    \n                                        \n                                        Address Line 2\n                                    \n                                    \n                                    City\n                                 \n                                        \n                                        State\n                                      \n                                    \n                                    ZIP\n                                \n                                        AfghanistanAlbaniaAlgeriaAmerican SamoaAndorraAngolaAnguillaAntarcticaAntigua and BarbudaArgentinaArmeniaArubaAustraliaAustriaAzerbaijanBahamasBahrainBangladeshBarbadosBelarusBelgiumBelizeBeninBermudaBhutanBoliviaBonaire\, Sint Eustatius and SabaBosnia and HerzegovinaBotswanaBouvet IslandBrazilBritish Indian Ocean TerritoryBrunei DarussalamBulgariaBurkina FasoBurundiCabo VerdeCambodiaCameroonCanadaCayman IslandsCentral African RepublicChadChileChinaChristmas IslandCocos IslandsColombiaComorosCongoCongo\, Democratic Republic of theCook IslandsCosta RicaCroatiaCubaCuraçaoCyprusCzechiaCôte d'IvoireDenmarkDjiboutiDominicaDominican RepublicEcuadorEgyptEl SalvadorEquatorial GuineaEritreaEstoniaEswatiniEthiopiaFalkland IslandsFaroe IslandsFijiFinlandFranceFrench GuianaFrench PolynesiaFrench Southern TerritoriesGabonGambiaGeorgiaGermanyGhanaGibraltarGreeceGreenlandGrenadaGuadeloupeGuamGuatemalaGuernseyGuineaGuinea-BissauGuyanaHaitiHeard Island and McDonald IslandsHoly SeeHondurasHong KongHungaryIcelandIndiaIndonesiaIranIraqIrelandIsle of ManIsraelItalyJamaicaJapanJerseyJordanKazakhstanKenyaKiribatiKorea\, Democratic People's Republic ofKorea\, Republic ofKuwaitKyrgyzstanLao People's Democratic RepublicLatviaLebanonLesothoLiberiaLibyaLiechtensteinLithuaniaLuxembourgMacaoMadagascarMalawiMalaysiaMaldivesMaliMaltaMarshall IslandsMartiniqueMauritaniaMauritiusMayotteMexicoMicronesiaMoldovaMonacoMongoliaMontenegroMontserratMoroccoMozambiqueMyanmarNamibiaNauruNepalNetherlandsNew CaledoniaNew ZealandNicaraguaNigerNigeriaNiueNorfolk IslandNorth MacedoniaNorthern Mariana IslandsNorwayOmanPakistanPalauPalestine\, State ofPanamaPapua New GuineaParaguayPeruPhilippinesPitcairnPolandPortugalPuerto RicoQatarRomaniaRussian FederationRwandaRéunionSaint BarthélemySaint Helena\, Ascension and Tristan da CunhaSaint Kitts and NevisSaint LuciaSaint MartinSaint Pierre and MiquelonSaint Vincent and the GrenadinesSamoaSan MarinoSao Tome and PrincipeSaudi ArabiaSenegalSerbiaSeychellesSierra LeoneSingaporeSint MaartenSlovakiaSloveniaSolomon IslandsSomaliaSouth AfricaSouth Georgia and the South Sandwich IslandsSouth SudanSpainSri LankaSudanSurinameSvalbard and Jan MayenSwedenSwitzerlandSyria Arab RepublicTaiwanTajikistanTanzania\, the United Republic ofThailandTimor-LesteTogoTokelauTongaTrinidad and TobagoTunisiaTurkmenistanTurks and Caicos IslandsTuvaluTürkiyeUS Minor Outlying IslandsUgandaUkraineUnited Arab EmiratesUnited KingdomUnited StatesUruguayUzbekistanVanuatuVenezuelaViet NamVirgin Islands\, BritishVirgin Islands\, U.S.Wallis and FutunaWestern SaharaYemenZambiaZimbabweÅland Islands\n                                        Country\n                                    \n                    \n                Credit Card*\n                                    American ExpressDiscoverMasterCardVisaSupported Credit Cards: American Express\, Discover\, MasterCard\, Visa\n                                    \n                                    Card Number\n                                 \n                                            \n                                                \n                                                    \n                                                       \n                                                           Month010203040506070809101112\n                                                       \n                                                       \n                                                   \n                                                   \n                                                       \n                                                           Year20262027202820292030203120322033203420352036203720382039204020412042204320442045\n                                                       \n                                                       \n                                                       \n                                                \n                                                 Expiration Date\n                                            \n                                                \n                                                 \n                                                Security Code\n                                             \n                                        \n                                            \n                                            Cardholder Name\n                                         Total\n							$ 0.00
URL:https://kentucky.kvc.org/event/community-support-associate-10-hour-training-live-online-course-13/
LOCATION:Online
CATEGORIES:Training
ATTACH;FMTTYPE=image/jpeg:https://kentucky.kvc.org/wp-content/uploads/sites/4/2020/02/iStock-1207315307.jpg
ORGANIZER;CN="Andrea Rishel":MAILTO:arishel@kvc.org
END:VEVENT
END:VCALENDAR